Workbook
Name a: 'Raw data'!$X$1
Name b: 'Raw data'!$X$2
Name h: 'Raw data'!$Z$2

Sheet Raw data
A1: Notes: | B1: 1) 0, 2, 12 min data omitted due to significant shift down on trends. | I1: 3) Area calculated using Simpson's rule for the integral portion of the ref spec calculation | W1: a | X1: =E3 -> 22 | Y1: n | Z1: =COUNT(E3:U3) -> 17
B2: 2) 192 min data not used to keep n-1 even for Simpsons rule. | W2: b | X2: 182 | Y2: h | Z2: =(X2-X1)/Z1 -> 9.4117647
B3: 0 | C3: 2 | D3: 12 | E3: 22 | F3: 32 | G3: 42 | H3: 52 | I3: 62 | J3: 72 | K3: 82 | L3: 92 | M3: 102 | N3: 112 | O3: 122 | P3: 132 | Q3: 142 | R3: 152 | S3: 162 | T3: 172 | U3: 182 | V3: 192 | W3: Area | X3: RefSpec
A4: 3810.0586 | B4: 0.9553411 | C4: 0.50893223 | D4: 0.71067488 | E4: 1.0106851 | F4: 1.1504507 | G4: 1.0904262 | H4: 1.1781231 | I4: 0.92086536 | J4: 0.98817539 | K4: 0.87374312 | L4: 0.66407001 | M4: 0.7123875 | N4: 0.83765411 | O4: 0.80827481 | P4: 1.0411855 | Q4: 1.2115715 | R4: 1.1423668 | S4: 1.0845845 | T4: 1.1659579 | U4: 1.0127437 | V4: 0.95507205 | W4: =h/3*(E4+4*F4+2*G4+4*H4+2*I4+4*J4+2*K4+4*L4+2*M4+4*N4+2*O4+4*P4+2*Q4+4*R4+2*S4+4*T4+U4) -> 150.89904 | X4: =1/(b-a)*W4 -> 0.943119
A5: 3811.9873 | B5: 0.95477021 | C5: 0.48528126 | D5: 0.65410715 | E5: 0.97036123 | F5: 1.091808 | G5: 1.0077209 | H5: 1.0725296 | I5: 0.84252417 | J5: 0.91811579 | K5: 0.78852564 | L5: 0.64793086 | M5: 0.66863686 | N5: 0.78330767 | O5: 0.77763623 | P5: 0.91704416 | Q5: 1.0675111 | R5: 1.0031362 | S5: 0.9783901 | T5: 1.0195401 | U5: 0.94256467 | V5: 0.9115268 | W5: =h/3*(E5+4*F5+2*G5+4*H5+2*I5+4*J5+2*K5+4*L5+2*M5+4*N5+2*O5+4*P5+2*Q5+4*R5+2*S5+4*T5+U5) -> 138.00303 | X5: =1/(b-a)*W5 -> 0.86251892
A6: 3813.916 | B6: 0.96704525 | C6: 0.48646334 | D6: 0.64049327 | E6: 0.97363228 | F6: 1.0953804 | G6: 1.0014346 | H6: 1.0292554 | I6: 0.80771625 | J6: 0.8946684 | K6: 0.73892438 | L6: 0.63629735 | M6: 0.65336496 | N6: 0.76540208 | O6: 0.76602894 | P6: 0.8589527 | Q6: 0.99603546 | R6: 0.93013376 | S6: 0.9208703 | T6: 0.93286985 | U6: 0.90137923 | V6: 0.89670897 | W6: =h/3*(E6+4*F6+2*G6+4*H6+2*I6+4*J6+2*K6+4*L6+2*M6+4*N6+2*O6+4*P6+2*Q6+4*R6+2*S6+4*T6+U6) -> 132.4411 | X6: =1/(b-a)*W6 -> 0.82775688
A7: 3815.8447 | B7: 0.97498941 | C7: 0.50833529 | D7: 0.66105282 | E7: 0.98576653 | F7: 1.1298146 | G7: 1.0324671 | H7: 1.0187386 | I7: 0.80155969 | J7: 0.89391673 | K7: 0.72255409 | L7: 0.62362498 | M7: 0.65558338 | N7: 0.76828229 | O7: 0.75449979 | P7: 0.82560736 | Q7: 0.95371294 | R7: 0.88349265 | S7: 0.88255924 | T7: 0.88259411 | U7: 0.862517 | V7: 0.87508309 | W7: =h/3*(E7+4*F7+2*G7+4*H7+2*I7+4*J7+2*K7+4*L7+2*M7+4*N7+2*O7+4*P7+2*Q7+4*R7+2*S7+4*T7+U7) -> 130.37942 | X7: =1/(b-a)*W7 -> 0.8148714
A8: 3817.7734 | B8: 0.98243421 | C8: 0.54246032 | D8: 0.70889062 | E8: 0.98459893 | F8: 1.166872 | G8: 1.0614865 | H8: 1.0228162 | I8: 0.81268013 | J8: 0.89644206 | K8: 0.73064041 | L8: 0.60838634 | M8: 0.65917206 | N8: 0.77092409 | O8: 0.73354888 | P8: 0.80082083 | Q8: 0.91938025 | R8: 0.85143596 | S8: 0.84979504 | T8: 0.86314774 | U8: 0.81995082 | V8: 0.83431911 | W8: =h/3*(E8+4*F8+2*G8+4*H8+2*I8+4*J8+2*K8+4*L8+2*M8+4*N8+2*O8+4*P8+2*Q8+4*R8+2*S8+4*T8+U8) -> 129.44733 | X8: =1/(b-a)*W8 -> 0.80904583
A9: 3819.7021 | B9: 1.003143 | C9: 0.57279873 | D9: 0.76418561 | E9: 0.97085053 | F9: 1.1766825 | G9: 1.0618972 | H9: 1.0251757 | I9: 0.82759994 | J9: 0.88759768 | K9: 0.74840438 | L9: 0.5965755 | M9: 0.65517408 | N9: 0.76054585 | O9: 0.70949894 | P9: 0.78271466 | Q9: 0.88165164 | R9: 0.83012557 | S9: 0.81677037 | T9: 0.86133486 | U9: 0.779948 | V9: 0.78940761 | W9: =h/3*(E9+4*F9+2*G9+4*H9+2*I9+4*J9+2*K9+4*L9+2*M9+4*N9+2*O9+4*P9+2*Q9+4*R9+2*S9+4*T9+U9) -> 128.11232 | X9: =1/(b-a)*W9 -> 0.80070197
A10: 3821.6309 | B10: 1.0338783 | C10: 0.58299065 | D10: 0.79279971 | E10: 0.95540035 | F10: 1.1503336 | G10: 1.0411613 | H10: 1.0186634 | I10: 0.83620661 | J10: 0.86376172 | K10: 0.75947201 | L10: 0.59265798 | M10: 0.64901829 | N10: 0.7397424 | O10: 0.69252592 | P10: 0.77078575 | Q10: 0.83981216 | R10: 0.8123126 | S10: 0.78131431 | T10: 0.85353148 | U10: 0.75128931 | V10: 0.75589591 | W10: =h/3*(E10+4*F10+2*G10+4*H10+2*I10+4*J10+2*K10+4*L10+2*M10+4*N10+2*O10+4*P10+2*Q10+4*R10+2*S10+4*T10+U10) -> 125.84429 | X10: =1/(b-a)*W10 -> 0.7865268
A11: 3823.5596 | B11: 1.0521479 | C11: 0.57009274 | D11: 0.78066653 | E11: 0.94118202 | F11: 1.1040442 | G11: 1.0164275 | H11: 1.0074334 | I11: 0.83714908 | J11: 0.83199418 | K11: 0.75551176 | L11: 0.59366655 | M11: 0.64674032 | N11: 0.71786916 | O11: 0.68325275 | P11: 0.75682932 | Q11: 0.80177855 | R11: 0.78816348 | S11: 0.74580342 | T11: 0.82441902 | U11: 0.73429346 | V11: 0.733459 | W11: =h/3*(E11+4*F11+2*G11+4*H11+2*I11+4*J11+2*K11+4*L11+2*M11+4*N11+2*O11+4*P11+2*Q11+4*R11+2*S11+4*T11+U11) -> 122.81249 | X11: =1/(b-a)*W11 -> 0.76757803
A12: 3825.4883 | B12: 1.045542 | C12: 0.54704434 | D12: 0.74512541 | E12: 0.92703408 | F12: 1.0528452 | G12: 0.99403298 | H12: 0.99477965 | I12: 0.83292341 | J12: 0.80423021 | K12: 0.74002784 | L12: 0.59287953 | M12: 0.646424 | N12: 0.69892824 | O12: 0.67604804 | P12: 0.73450732 | Q12: 0.77328807 | R12: 0.75626981 | S12: 0.71732765 | T12: 0.78331494 | U12: 0.7220431 | V12: 0.7150631 | W12: =h/3*(E12+4*F12+2*G12+4*H12+2*I12+4*J12+2*K12+4*L12+2*M12+4*N12+2*O12+4*P12+2*Q12+4*R12+2*S12+4*T12+U12) -> 119.46742 | X12: =1/(b-a)*W12 -> 0.74667139
A13: 3827.417 | B13: 1.0233723 | C13: 0.52949291 | D13: 0.70601314 | E13: 0.91292292 | F13: 1.0009537 | G13: 0.97224867 | H13: 0.97585511 | I13: 0.82422584 | J13: 0.78923231 | K13: 0.72015643 | L13: 0.58721834 | M13: 0.64327669 | N13: 0.68009901 | O13: 0.66699064 | P13: 0.70803809 | Q13: 0.7537058 | R13: 0.72327846 | S13: 0.7006495 | T13: 0.74555421 | U13: 0.70463073 | V13: 0.69875187 | W13: =h/3*(E13+4*F13+2*G13+4*H13+2*I13+4*J13+2*K13+4*L13+2*M13+4*N13+2*O13+4*P13+2*Q13+4*R13+2*S13+4*T13+U13) -> 116.14424 | X13: =1/(b-a)*W13 -> 0.72590152
A14: 3829.3457 | B14: 0.99980235 | C14: 0.5250532 | D14: 0.67105079 | E14: 0.90008146 | F14: 0.95162749 | G14: 0.95649743 | H14: 0.94865853 | I14: 0.80963647 | J14: 0.78881657 | K14: 0.70290828 | L14: 0.57835281 | M14: 0.63490999 | N14: 0.65908432 | O14: 0.65588975 | P14: 0.68583786 | Q14: 0.73796225 | R14: 0.69441247 | S14: 0.69425732 | T14: 0.7156083 | U14: 0.67668349 | V14: 0.68597823 | W14: =h/3*(E14+4*F14+2*G14+4*H14+2*I14+4*J14+2*K14+4*L14+2*M14+4*N14+2*O14+4*P14+2*Q14+4*R14+2*S14+4*T14+U14) -> 113.09955 | X14: =1/(b-a)*W14 -> 0.70687218
A15: 3831.2744 | B15: 0.97875404 | C15: 0.5336774 | D15: 0.64445949 | E15: 0.88849282 | F15: 0.91125494 | G15: 0.95163131 | H15: 0.92223036 | I15: 0.79037571 | J15: 0.79479825 | K15: 0.69063002 | L15: 0.56925058 | M15: 0.62331063 | N15: 0.63515335 | O15: 0.64231062 | P15: 0.67189986 | Q15: 0.72081286 | R15: 0.67104197 | S15: 0.69066668 | T15: 0.69104576 | U15: 0.64398021 | V15: 0.67533326 | W15: =h/3*(E15+4*F15+2*G15+4*H15+2*I15+4*J15+2*K15+4*L15+2*M15+4*N15+2*O15+4*P15+2*Q15+4*R15+2*S15+4*T15+U15) -> 110.48988 | X15: =1/(b-a)*W15 -> 0.69056174
... A2174: 8001.1475 | B2174: 0.035152748 | C2174: -0.0095110424 | D2174: -0.012537491 | E2174: 0.026755422 | F2174: 0.028510451 | G2174: 0.026542433 | H2174: 0.033785418 | I2174: 0.04709807 | J2174: 0.03393355 | K2174: 0.055934399 | L2174: 0.053277105 | M2174: 0.033044621 | N2174: 0.072301596 | O2174: 0.067758024 | P2174: 0.048931375 | Q2174: 0.063745536 | R2174: 0.069945246 | S2174: 0.067627162 | T2174: 0.065448046 | U2174: 0.044430047 | V2174: 0.060961612 | W2174: =h/3*(E2174+4*F2174+2*G2174+4*H2174+2*I2174+4*J2174+2*K2174+4*L2174+2*M2174+4*N2174+2*O2174+4*P2174+2*Q2174+4*R2174+2*S2174+4*T2174+U2174) -> 7.5897007 | X2174: =1/(b-a)*W2174 -> 0.04743563

Sheet Dynamic Spectrum
B1: ='Raw data'!E3 -> 22 | C1: ='Raw data'!F3 -> 32 | D1: ='Raw data'!G3 -> 42 | E1: ='Raw data'!H3 -> 52 | F1: ='Raw data'!I3 -> 62 | G1: ='Raw data'!J3 -> 72 | H1: ='Raw data'!K3 -> 82 | I1: ='Raw data'!L3 -> 92 | ... R1: ='Raw data'!U3 -> 182
A2: ='Raw data'!A4 -> 3810.0586 | B2: ='Raw data'!E4-'Raw data'!$X4 -> 0.067566091 | C2: ='Raw data'!F4-'Raw data'!$X4 -> 0.20733171 | D2: ='Raw data'!G4-'Raw data'!$X4 -> 0.14730721 | E2: ='Raw data'!H4-'Raw data'!$X4 -> 0.23500412 | F2: ='Raw data'!I4-'Raw data'!$X4 -> -0.022253638 | G2: ='Raw data'!J4-'Raw data'!$X4 -> 0.045056397 | H2: ='Raw data'!K4-'Raw data'!$X4 -> -0.069375878 | I2: ='Raw data'!L4-'Raw data'!$X4 -> -0.27904899 | ... R2: ='Raw data'!U4-'Raw data'!$X4 -> 0.069624716
A3: ='Raw data'!A5 -> 3811.9873 | B3: ='Raw data'!E5-'Raw data'!$X5 -> 0.10784231 | C3: ='Raw data'!F5-'Raw data'!$X5 -> 0.22928904 | D3: ='Raw data'!G5-'Raw data'!$X5 -> 0.14520203 | E3: ='Raw data'!H5-'Raw data'!$X5 -> 0.21001063 | F3: ='Raw data'!I5-'Raw data'!$X5 -> -0.019994749 | G3: ='Raw data'!J5-'Raw data'!$X5 -> 0.055596875 | H3: ='Raw data'!K5-'Raw data'!$X5 -> -0.073993278 | I3: ='Raw data'!L5-'Raw data'!$X5 -> -0.21458806 | ... R3: ='Raw data'!U5-'Raw data'!$X5 -> 0.080045747
A4: ='Raw data'!A6 -> 3813.916 | B4: ='Raw data'!E6-'Raw data'!$X6 -> 0.14587539 | C4: ='Raw data'!F6-'Raw data'!$X6 -> 0.26762354 | D4: ='Raw data'!G6-'Raw data'!$X6 -> 0.17367768 | E4: ='Raw data'!H6-'Raw data'!$X6 -> 0.20149851 | F4: ='Raw data'!I6-'Raw data'!$X6 -> -0.020040632 | G4: ='Raw data'!J6-'Raw data'!$X6 -> 0.066911517 | H4: ='Raw data'!K6-'Raw data'!$X6 -> -0.088832499 | I4: ='Raw data'!L6-'Raw data'!$X6 -> -0.19145954 | ... R4: ='Raw data'!U6-'Raw data'!$X6 -> 0.073622345
A5: ='Raw data'!A7 -> 3815.8447 | B5: ='Raw data'!E7-'Raw data'!$X7 -> 0.17089513 | C5: ='Raw data'!F7-'Raw data'!$X7 -> 0.31494322 | D5: ='Raw data'!G7-'Raw data'!$X7 -> 0.21759572 | E5: ='Raw data'!H7-'Raw data'!$X7 -> 0.20386723 | F5: ='Raw data'!I7-'Raw data'!$X7 -> -0.013311716 | G5: ='Raw data'!J7-'Raw data'!$X7 -> 0.079045324 | H5: ='Raw data'!K7-'Raw data'!$X7 -> -0.092317315 | I5: ='Raw data'!L7-'Raw data'!$X7 -> -0.19124642 | ... R5: ='Raw data'!U7-'Raw data'!$X7 -> 0.047645597
A6: ='Raw data'!A8 -> 3817.7734 | B6: ='Raw data'!E8-'Raw data'!$X8 -> 0.17555311 | C6: ='Raw data'!F8-'Raw data'!$X8 -> 0.3578262 | D6: ='Raw data'!G8-'Raw data'!$X8 -> 0.25244066 | E6: ='Raw data'!H8-'Raw data'!$X8 -> 0.21377036 | F6: ='Raw data'!I8-'Raw data'!$X8 -> 0.0036342997 | G6: ='Raw data'!J8-'Raw data'!$X8 -> 0.08739623 | H6: ='Raw data'!K8-'Raw data'!$X8 -> -0.078405414 | I6: ='Raw data'!L8-'Raw data'!$X8 -> -0.20065949 | ... R6: ='Raw data'!U8-'Raw data'!$X8 -> 0.010904993
A7: ='Raw data'!A9 -> 3819.7021 | B7: ='Raw data'!E9-'Raw data'!$X9 -> 0.17014855 | C7: ='Raw data'!F9-'Raw data'!$X9 -> 0.3759805 | D7: ='Raw data'!G9-'Raw data'!$X9 -> 0.26119518 | E7: ='Raw data'!H9-'Raw data'!$X9 -> 0.22447372 | F7: ='Raw data'!I9-'Raw data'!$X9 -> 0.026897968 | G7: ='Raw data'!J9-'Raw data'!$X9 -> 0.086895705 | H7: ='Raw data'!K9-'Raw data'!$X9 -> -0.052297591 | I7: ='Raw data'!L9-'Raw data'!$X9 -> -0.20412648 | ... R7: ='Raw data'!U9-'Raw data'!$X9 -> -0.020753979
A8: ='Raw data'!A10 -> 3821.6309 | B8: ='Raw data'!E10-'Raw data'!$X10 -> 0.16887355 | C8: ='Raw data'!F10-'Raw data'!$X10 -> 0.36380684 | D8: ='Raw data'!G10-'Raw data'!$X10 -> 0.2546345 | E8: ='Raw data'!H10-'Raw data'!$X10 -> 0.23213661 | F8: ='Raw data'!I10-'Raw data'!$X10 -> 0.049679815 | G8: ='Raw data'!J10-'Raw data'!$X10 -> 0.077234923 | H8: ='Raw data'!K10-'Raw data'!$X10 -> -0.027054788 | I8: ='Raw data'!L10-'Raw data'!$X10 -> -0.19386882 | ... R8: ='Raw data'!U10-'Raw data'!$X10 -> -0.035237492
A9: ='Raw data'!A11 -> 3823.5596 | B9: ='Raw data'!E11-'Raw data'!$X11 -> 0.17360399 | C9: ='Raw data'!F11-'Raw data'!$X11 -> 0.33646617 | D9: ='Raw data'!G11-'Raw data'!$X11 -> 0.24884949 | E9: ='Raw data'!H11-'Raw data'!$X11 -> 0.23985538 | F9: ='Raw data'!I11-'Raw data'!$X11 -> 0.069571052 | G9: ='Raw data'!J11-'Raw data'!$X11 -> 0.064416144 | H9: ='Raw data'!K11-'Raw data'!$X11 -> -0.012066271 | I9: ='Raw data'!L11-'Raw data'!$X11 -> -0.17391148 | ... R9: ='Raw data'!U11-'Raw data'!$X11 -> -0.033284571
A10: ='Raw data'!A12 -> 3825.4883 | B10: ='Raw data'!E12-'Raw data'!$X12 -> 0.18036269 | C10: ='Raw data'!F12-'Raw data'!$X12 -> 0.30617385 | D10: ='Raw data'!G12-'Raw data'!$X12 -> 0.24736159 | E10: ='Raw data'!H12-'Raw data'!$X12 -> 0.24810825 | F10: ='Raw data'!I12-'Raw data'!$X12 -> 0.086252021 | G10: ='Raw data'!J12-'Raw data'!$X12 -> 0.057558822 | H10: ='Raw data'!K12-'Raw data'!$X12 -> -0.0066435466 | I10: ='Raw data'!L12-'Raw data'!$X12 -> -0.15379186 | ... R10: ='Raw data'!U12-'Raw data'!$X12 -> -0.024628294
A11: ='Raw data'!A13 -> 3827.417 | B11: ='Raw data'!E13-'Raw data'!$X13 -> 0.1870214 | C11: ='Raw data'!F13-'Raw data'!$X13 -> 0.27505215 | D11: ='Raw data'!G13-'Raw data'!$X13 -> 0.24634715 | E11: ='Raw data'!H13-'Raw data'!$X13 -> 0.24995359 | F11: ='Raw data'!I13-'Raw data'!$X13 -> 0.09832432 | G11: ='Raw data'!J13-'Raw data'!$X13 -> 0.063330791 | H11: ='Raw data'!K13-'Raw data'!$X13 -> -0.0057450919 | I11: ='Raw data'!L13-'Raw data'!$X13 -> -0.13868318 | ... R11: ='Raw data'!U13-'Raw data'!$X13 -> -0.021270791
A12: ='Raw data'!A14 -> 3829.3457 | B12: ='Raw data'!E14-'Raw data'!$X14 -> 0.19320927 | C12: ='Raw data'!F14-'Raw data'!$X14 -> 0.24475531 | D12: ='Raw data'!G14-'Raw data'!$X14 -> 0.24962525 | E12: ='Raw data'!H14-'Raw data'!$X14 -> 0.24178634 | F12: ='Raw data'!I14-'Raw data'!$X14 -> 0.10276429 | G12: ='Raw data'!J14-'Raw data'!$X14 -> 0.081944389 | H12: ='Raw data'!K14-'Raw data'!$X14 -> -0.0039639052 | I12: ='Raw data'!L14-'Raw data'!$X14 -> -0.12851937 | ... R12: ='Raw data'!U14-'Raw data'!$X14 -> -0.030188697
A13: ='Raw data'!A15 -> 3831.2744 | B13: ='Raw data'!E15-'Raw data'!$X15 -> 0.19793108 | C13: ='Raw data'!F15-'Raw data'!$X15 -> 0.2206932 | D13: ='Raw data'!G15-'Raw data'!$X15 -> 0.26106956 | E13: ='Raw data'!H15-'Raw data'!$X15 -> 0.23166862 | F13: ='Raw data'!I15-'Raw data'!$X15 -> 0.099813965 | G13: ='Raw data'!J15-'Raw data'!$X15 -> 0.10423651 | H13: ='Raw data'!K15-'Raw data'!$X15 -> 6.8274199e-05 | I13: ='Raw data'!L15-'Raw data'!$X15 -> -0.12131116 | ... R13: ='Raw data'!U15-'Raw data'!$X15 -> -0.046581539
... A2172: ='Raw data'!A2174 -> 8001.1475 | B2172: ='Raw data'!E2174-'Raw data'!$X2174 -> -0.020680207 | C2172: ='Raw data'!F2174-'Raw data'!$X2174 -> -0.018925178 | D2172: ='Raw data'!G2174-'Raw data'!$X2174 -> -0.020893197 | E2172: ='Raw data'!H2174-'Raw data'!$X2174 -> -0.013650212 | F2172: ='Raw data'!I2174-'Raw data'!$X2174 -> -0.00033755922 | G2172: ='Raw data'!J2174-'Raw data'!$X2174 -> -0.013502079 | H2172: ='Raw data'!K2174-'Raw data'!$X2174 -> 0.0084987698 | I2172: ='Raw data'!L2174-'Raw data'!$X2174 -> 0.0058414755 | ... R2172: ='Raw data'!U2174-'Raw data'!$X2174 -> -0.0030055823

Sheet Values
